BEGIN:VCALENDAR
VERSION:2.0
PRODID:-//Journalism Science Alliance - ECPv6.15.20//NONSGML v1.0//EN
CALSCALE:GREGORIAN
METHOD:PUBLISH
X-ORIGINAL-URL:https://journalismsciencealliance.eu
X-WR-CALDESC:Events for Journalism Science Alliance
REFRESH-INTERVAL;VALUE=DURATION:PT1H
X-Robots-Tag:noindex
X-PUBLISHED-TTL:PT1H
BEGIN:VTIMEZONE
TZID:Europe/Brussels
BEGIN:DAYLIGHT
TZOFFSETFROM:+0100
TZOFFSETTO:+0200
TZNAME:CEST
DTSTART:20250330T010000
END:DAYLIGHT
BEGIN:STANDARD
TZOFFSETFROM:+0200
TZOFFSETTO:+0100
TZNAME:CET
DTSTART:20251026T010000
END:STANDARD
BEGIN:DAYLIGHT
TZOFFSETFROM:+0100
TZOFFSETTO:+0200
TZNAME:CEST
DTSTART:20260329T010000
END:DAYLIGHT
BEGIN:STANDARD
TZOFFSETFROM:+0200
TZOFFSETTO:+0100
TZNAME:CET
DTSTART:20261025T010000
END:STANDARD
BEGIN:DAYLIGHT
TZOFFSETFROM:+0100
TZOFFSETTO:+0200
TZNAME:CEST
DTSTART:20270328T010000
END:DAYLIGHT
BEGIN:STANDARD
TZOFFSETFROM:+0200
TZOFFSETTO:+0100
TZNAME:CET
DTSTART:20271031T010000
END:STANDARD
END:VTIMEZONE
BEGIN:VEVENT
DTSTART;TZID=Europe/Brussels:20260204T110000
DTEND;TZID=Europe/Brussels:20260204T123000
DTSTAMP:20260420T091925
CREATED:20260121T134219Z
LAST-MODIFIED:20260304T142915Z
UID:17621-1770202800-1770208200@journalismsciencealliance.eu
SUMMARY:JSA Training session on the Use of AI
DESCRIPTION:The Journalism Science Alliance kicks off its online training series on 4 February\, exploring the use of AI in journalism. This first session gathers journalist grantees from the 2025 call. \nThe trainer\, Olaya Argüeso Pérez\, brings experience both as an investigative journalist and a trainer\, specialising in cross-border journalism and\, more recently\, AI accountability reporting. \nOlaya Argüeso Pérez was recently selected as one of the Pulitzer Center’s AI Spotlight Coaching Grantees. As part of this programme\, she received training on reporting about AI\, learning how to make this important and rapidly evolving topic accessible not just to specialised reporters but to all journalists. Given AI’s impact across all sectors of society\, she believes it’s urgent for every journalist to understand how to investigate AI stories and the associated risks. \n\nOlaya Argüeso Pérez \n\nThis session is restricted to Journalism Science Alliance grantees.
URL:https://journalismsciencealliance.eu/event/jsa-training-session-on-the-use-of-ai/
LOCATION:Online
ATTACH;FMTTYPE=image/jpeg:https://journalismsciencealliance.eu/wp-content/uploads/2026/01/Vector_2646-3-scaled.jpg
END:VEVENT
BEGIN:VEVENT
DTSTART;TZID=Europe/Brussels:20260205T110000
DTEND;TZID=Europe/Brussels:20260205T120000
DTSTAMP:20260420T091925
CREATED:20260119T090011Z
LAST-MODIFIED:20260205T155154Z
UID:17532-1770289200-1770292800@journalismsciencealliance.eu
SUMMARY:Ask Me Anything 2026  Session #1
DESCRIPTION:Join our Ask Me Anything (AMA) session and learn more about the Journalism Science Alliance programme and its grants. \nSave the date for this AMA session on 5 February\, at 11:00 CET.  \nIn this online event\, there will be a presentation about Journalism Science Alliance and the eligibility criteria to apply for our new call offering grants to support collaborations between journalists and scientists. \nThese grants aim to fund\, over an eight-month period\, the production of investigative journalism projects grounded in scientific evidence and focused on topics of public interest. \nIn this session\, interested applicants can ask questions and receive clarifications from our team regarding the eligibility criteria\, the requirements of the programme and the application process. \nPlease join through this Zoom link. \nThere will be another AMA session on 5 March at the same time\, 11:00 CET.
URL:https://journalismsciencealliance.eu/event/ask-me-anything-session-1-call-2026/
LOCATION:Online
ATTACH;FMTTYPE=image/jpeg:https://journalismsciencealliance.eu/wp-content/uploads/2026/01/back-view-adults-studying-together-scaled.jpg
END:VEVENT
BEGIN:VEVENT
DTSTART;TZID=Europe/Brussels:20260219T173000
DTEND;TZID=Europe/Brussels:20260219T183000
DTSTAMP:20260420T091925
CREATED:20260213T130103Z
LAST-MODIFIED:20260226T110712Z
UID:17709-1771522200-1771525800@journalismsciencealliance.eu
SUMMARY:EUSJA seminar on Journalism Science Alliance
DESCRIPTION:The European Union of Science Journalists’ Associations (EUSJA) will host the Journalism Science Alliance programme’s coordinator António Granado on 19 February\, at 17:30 CET\, to discuss how the Journalism Science Alliance was formed\, its recent success\, and how journalists can apply to the most recent call. \nThe online session will be held by Fintan Burke\, EUSJA president. The seminar will have a presentation about JSA\, followed by a Q&A session.  \nInterested? Register here.
URL:https://journalismsciencealliance.eu/event/eusja-seminar-on-the-journalism-science-alliance-grant-its-history-and-how-to-apply/
LOCATION:Online
ATTACH;FMTTYPE=image/jpeg:https://journalismsciencealliance.eu/wp-content/uploads/2026/02/EUSJA.jpg
END:VEVENT
BEGIN:VEVENT
DTSTART;TZID=Europe/Brussels:20260227T110000
DTEND;TZID=Europe/Brussels:20260227T123000
DTSTAMP:20260420T091925
CREATED:20260223T122106Z
LAST-MODIFIED:20260304T145149Z
UID:17725-1772190000-1772195400@journalismsciencealliance.eu
SUMMARY:JSA Training session "Journalists & Scientists: Not a Love Story"
DESCRIPTION:The Journalism Science Alliance is hosting its second online training series on 27 February\, gathering scientist grantees from the 2025 call. \nThis session will focus on the relationship between scientists and journalists\, exploring how to work effectively with the media and addressing the real challenges of this collaboration. \nThe trainer\, António Granado\, was a science journalist for more than 26 years and has wide experience in the relationship between scientists and journalists. Currently\, he is an associate professor at Universidade NOVA de Lisboa\, where he teaches in the areas of journalism and science communication and he co-directs\, since 2011\, the master programme in Science Communication. António worked as a science journalist\, mainly at Público\, one of Portugal’s main daily quality newspapers\, where he also was science editor\, sub-editor-in-chief\, managing editor and online editor. As the science editor at Público\, he organized the first residencies in Portugal for scientists in the newsroom\, a project supported by the national research funding agency. He is currently the coordinator of the Journalism Science Alliance and a Work Package leader on the ERC Science Journalism Initiative\, which is promoting residencies for science journalists in European research institutions. \n\n\n \n\n\nAntónio Granado \n\n\n \n\nThis session is restricted to Journalism Science Alliance grantees.
URL:https://journalismsciencealliance.eu/event/jsa-training-session-journalists-and-scientists-not-a-love-story/
LOCATION:Online
ATTACH;FMTTYPE=image/jpeg:https://journalismsciencealliance.eu/wp-content/uploads/2026/02/press-reporter-fallowing-leads-case-2.jpg
END:VEVENT
END:VCALENDAR