BEGIN:VCALENDAR
VERSION:2.0
PRODID:-//Journalism Science Alliance - ECPv6.15.20//NONSGML v1.0//EN
CALSCALE:GREGORIAN
METHOD:PUBLISH
X-WR-CALNAME:Journalism Science Alliance
X-ORIGINAL-URL:https://journalismsciencealliance.eu
X-WR-CALDESC:Events for Journalism Science Alliance
REFRESH-INTERVAL;VALUE=DURATION:PT1H
X-Robots-Tag:noindex
X-PUBLISHED-TTL:PT1H
BEGIN:VTIMEZONE
TZID:Europe/Brussels
BEGIN:DAYLIGHT
TZOFFSETFROM:+0100
TZOFFSETTO:+0200
TZNAME:CEST
DTSTART:20250330T010000
END:DAYLIGHT
BEGIN:STANDARD
TZOFFSETFROM:+0200
TZOFFSETTO:+0100
TZNAME:CET
DTSTART:20251026T010000
END:STANDARD
BEGIN:DAYLIGHT
TZOFFSETFROM:+0100
TZOFFSETTO:+0200
TZNAME:CEST
DTSTART:20260329T010000
END:DAYLIGHT
BEGIN:STANDARD
TZOFFSETFROM:+0200
TZOFFSETTO:+0100
TZNAME:CET
DTSTART:20261025T010000
END:STANDARD
BEGIN:DAYLIGHT
TZOFFSETFROM:+0100
TZOFFSETTO:+0200
TZNAME:CEST
DTSTART:20270328T010000
END:DAYLIGHT
BEGIN:STANDARD
TZOFFSETFROM:+0200
TZOFFSETTO:+0100
TZNAME:CET
DTSTART:20271031T010000
END:STANDARD
END:VTIMEZONE
BEGIN:VEVENT
DTSTART;TZID=Europe/Brussels:20260205T110000
DTEND;TZID=Europe/Brussels:20260205T120000
DTSTAMP:20260422T104707
CREATED:20260119T090011Z
LAST-MODIFIED:20260205T155154Z
UID:17532-1770289200-1770292800@journalismsciencealliance.eu
SUMMARY:Ask Me Anything 2026  Session #1
DESCRIPTION:Join our Ask Me Anything (AMA) session and learn more about the Journalism Science Alliance programme and its grants. \nSave the date for this AMA session on 5 February\, at 11:00 CET.  \nIn this online event\, there will be a presentation about Journalism Science Alliance and the eligibility criteria to apply for our new call offering grants to support collaborations between journalists and scientists. \nThese grants aim to fund\, over an eight-month period\, the production of investigative journalism projects grounded in scientific evidence and focused on topics of public interest. \nIn this session\, interested applicants can ask questions and receive clarifications from our team regarding the eligibility criteria\, the requirements of the programme and the application process. \nPlease join through this Zoom link. \nThere will be another AMA session on 5 March at the same time\, 11:00 CET.
URL:https://journalismsciencealliance.eu/event/ask-me-anything-session-1-call-2026/
LOCATION:Online
ATTACH;FMTTYPE=image/jpeg:https://journalismsciencealliance.eu/wp-content/uploads/2026/01/back-view-adults-studying-together-scaled.jpg
END:VEVENT
END:VCALENDAR